












BEGIN:VCALENDAR
VERSION:2.0
PRODID:-//ISACA Chennai Chapter - ECPv4.9.4//NONSGML v1.0//EN
CALSCALE:GREGORIAN
METHOD:PUBLISH
X-WR-CALNAME:ISACA Chennai Chapter
X-ORIGINAL-URL:https://isaca-chennai.org
X-WR-CALDESC:Events for ISACA Chennai Chapter
BEGIN:VTIMEZONE
TZID:"Asia/Kolkata"
BEGIN:STANDARD
TZOFFSETFROM:+0530
TZOFFSETTO:+0530
TZNAME:IST
DTSTART:20240101T000000
END:STANDARD
END:VTIMEZONE
BEGIN:VEVENT
DTSTART;TZID="Asia/Kolkata":20241207T090000
DTEND;TZID="Asia/Kolkata":20241207T163000
DTSTAMP:20260423T195009
CREATED:20240922T161623Z
LAST-MODIFIED:20240922T161624Z
UID:35345-1733562000-1733589000@isaca-chennai.org
SUMMARY:ISACA Accredited training program - Dec-2024-CGEIT
DESCRIPTION:Certified in Governance and Enterprise IT (CGEIT) Review Course – ISACA ATP Accredited Program. \nDec 7 to Dec 15. The CGEIT Review course\, a 4-day program spanning two weekends\, is scheduled \nThis program helps the participants supplement their study program towards certification through review classes\, special lectures\, and case studies. \n  \n\n\n\nDATE\nDAY\nTIME\nTOPIC\n\n\n7-Dec-24\nSaturday\n9:00 am to 12:00 pm\n2:00 pm to 5:00 pm\nDomain 1 – Governance of Enterprise IT (40%)\n\n\n8-Dec-24\nSunday\n9:00 am to 2:00 pm\nDomain 2 -IT Resources (15%)\n\n\n14-Dec-24\nSaturday\n9:00 am to 12:30 pm\n1:15pm to 4:15pm\nDomain 3 – Benefits Realization (26%)\n\n\n15-Dec-24\nSunday\n9:00 am to1:00 pm\n2:00 pm to 4:30 pm\nDomain 4 -Risk Optimization (19%)\n\n\n15-Dec-24\nSunday\n4:30 pm to 6:30 pm\nPractice Test\n\n\n\n  \n
URL:https://isaca-chennai.org/events/isaca-accredited-training-program-dec-2024-cgeit/
LOCATION:Virtual Event\, India
CATEGORIES:Review Program
ORGANIZER;CN="ISACA%20Chennai%20Chapter":MAILTO:officemanager@isaca-chennai.org / hon.secretary@isaca-chennai.org
END:VEVENT
END:VCALENDAR