












BEGIN:VCALENDAR
VERSION:2.0
PRODID:-//ISACA Chennai Chapter - ECPv4.9.4//NONSGML v1.0//EN
CALSCALE:GREGORIAN
METHOD:PUBLISH
X-WR-CALNAME:ISACA Chennai Chapter
X-ORIGINAL-URL:https://isaca-chennai.org
X-WR-CALDESC:Events for ISACA Chennai Chapter
BEGIN:VTIMEZONE
TZID:"Asia/Kolkata"
BEGIN:STANDARD
TZOFFSETFROM:+0530
TZOFFSETTO:+0530
TZNAME:IST
DTSTART:20260101T000000
END:STANDARD
END:VTIMEZONE
BEGIN:VEVENT
DTSTART;TZID="Asia/Kolkata":20260409T090000
DTEND;TZID="Asia/Kolkata":20260409T170000
DTSTAMP:20260421T131930
CREATED:20260305T164748Z
LAST-MODIFIED:20260404T073948Z
UID:46866-1775725200-1775754000@isaca-chennai.org
SUMMARY:ISO/IEC 42001:2023 Artificial Intelligence Management System Lead Implementer Training Course (Non-IRCA)
DESCRIPTION:ISACA is pleased to collaborate with DNV\, a trusted certification and assurance body\, to bring exclusive training for ISACA members on the ISO/IEC 42001 Lead Implementor (Non-IRCA) standard. \nAs AI adoption accelerates\, effective governance\, risk management\, and responsible AI practices are critical. This course enables professionals to develop the skills required to implement and manage an AI Management System (AIMS) aligned with the world’s first AI management standard. \n\n\n\nTraining Dates\nApril 9 (Thu) – 12 (Sun)\, 2026\n\n\n Mode\n Virtual\n\n\nCPE\n32\n\n\nOutcome\n Participation and Learning\n\n\n\nKey Highlights: \n\nExclusive discounted Pricing for ISACA Members\nDelivered by expert trainers from DNV\nContent tailored for ISACA members\nPractical insights into AI governance\, risk\, ethics\, and compliance\nGlobally recognized ISO/IEC 42001 framework\nExamination on the last day with DNV Certificate (*) will be provided\n\nPricing: \n\nMembers: INR 33\,040 (inclusive of  18% GST)\nNon members: INR 36\,580 (inclusive of  18% GST)\n\nCertification: \n\nAfter successfully completing the examination on the last day\, you will be provided with a certificate (Non IRCA) from DNV.\n(*) However\, participants who do not qualify in the examination will be given certificate of attendance only.\n\n
URL:https://isaca-chennai.org/events/iso42001aims-apr-2026/
LOCATION:Virtual Event\, India
CATEGORIES:Workshop
ORGANIZER;CN="ISACA%20Chennai%20Chapter":MAILTO:officemanager@isaca-chennai.org / hon.secretary@isaca-chennai.org
END:VEVENT
BEGIN:VEVENT
DTSTART;TZID="Asia/Kolkata":20260418T090000
DTEND;TZID="Asia/Kolkata":20260418T170000
DTSTAMP:20260421T131930
CREATED:20260301T041030Z
LAST-MODIFIED:20260415T171244Z
UID:46828-1776502800-1776531600@isaca-chennai.org
SUMMARY:ISACA Accredited Virtual CISM Review Program - April 2026
DESCRIPTION: \nCertified Information Security Manager (CISM) Review Program (Virtual) \nStart Date: 18 Apr 2026 End Date: 26 Apr 2026 \nFee: INR 13\,924 for ISACA Members and INR 16\,992 for Non-Members. (Including GST) \nCPE: 24 hours \nThe CISM Review Program is a 4-day program spanning two weekends. \nThis program helps the participants supplement their study program towards certification through review classes\, special lectures\, and case studies. \nCISM validates your expertise in the four work-related domains listed below that are applicable across industry verticals: \n\n\n\n\n\n\nDate \n\n\n\n\nTime \n\n\n\n\nDomain \n\n\n\n\n\n\nApr 18 (Sat) \n\n\n\n\n9:30 am to 4:30 pm \n\n\n\n\nDomain 1: Information Security Governance (17%) \n\n\n\n\n\n\nApr 19(Sun) \n\n\n\n\n9:30 am to 4:30 pm \n\n\n\n\nDomain 2: Information Risk Management (20%) \n\n\n\n\n\n\nApr 25 (Sat) \n\n\n\n\n9:30 am to 4:30 pm \n\n\n\n\nDomain 3: Information Security Program Development and Management (33%) \n\n\n\n\n\n\nApr 26 (Sun) \n\n\n\n\n9:30 am to 4:30 pm \n\n\n\n\nDomain 4: Information Security Incident Management (30%) \n\n\n\n\n\n\nFor registered participants\, zoom invite details will be shared one day prior to the review program start date. \nNote: The above schedule is subject to change as per faculty availability\, but be rest assured there wont be any major changes. \n
URL:https://isaca-chennai.org/events/cism-apr-2026/
LOCATION:Virtual Event\, India
CATEGORIES:Review Program
ORGANIZER;CN="ISACA%20Chennai%20Chapter":MAILTO:officemanager@isaca-chennai.org / hon.secretary@isaca-chennai.org
END:VEVENT
END:VCALENDAR